BEGIN:VCALENDAR
VERSION:2.0
PRODID:-//eventon.com NONSGML v1.0//EN
CALSCALE:GREGORIAN
METHOD:PUBLISH
BEGIN:VEVENT
UID:69eb32e77a739
DTSTAMP:20260424T160751
DTSTART:20270207T073700Z
DTEND:20270207T073700Z
TZID:Asia/Bangkok
LOCATION:นครพนม 
SUMMARY:𝖭𝖠𝖪𝖧𝖮𝖭𝖯𝖧𝖠𝖭𝖮𝖬 𝟤𝟣
DESCRIPTION: 𝖭𝖠𝖪𝖧𝖮𝖭𝖯𝖧𝖠𝖭𝖮𝖬 𝟤𝟣\nhttps://patrunning.com/events/%f0%9d%96%ad%f0%9d%96%a0%f0%9d%96%aa%f0%9d%96%a7%f0%9d%96%ae%f0%9d%96%ad%f0%9d%96%af%f0%9d%96%a7%f0%9d%96%a0%f0%9d%96%ad%f0%9d%96%ae%f0%9d%96%ac-%f0%9d%9f%a4%f0%9d%9f%a3/
URL:https://patrunning.com/events/%f0%9d%96%ad%f0%9d%96%a0%f0%9d%96%aa%f0%9d%96%a7%f0%9d%96%ae%f0%9d%96%ad%f0%9d%96%af%f0%9d%96%a7%f0%9d%96%a0%f0%9d%96%ad%f0%9d%96%ae%f0%9d%96%ac-%f0%9d%9f%a4%f0%9d%9f%a3/
END:VEVENT
END:VCALENDAR