BEGIN:VCALENDAR
VERSION:2.0
PRODID:-//eventon.com NONSGML v1.0//EN
CALSCALE:GREGORIAN
METHOD:PUBLISH
BEGIN:VEVENT
UID:69e7c6e7ee692
DTSTAMP:20260422T015015
DTSTART:20261128T130100Z
DTEND:20261129T130100Z
TZID:Asia/Bangkok
LOCATION:นครราชสีมา 
SUMMARY:KORAT Loifaa Marathon 2026
DESCRIPTION: KORAT Loifaa Marathon 2026\nhttps://patrunning.com/events/korat-loifaa-marathon-2026/
URL:https://patrunning.com/events/korat-loifaa-marathon-2026/
END:VEVENT
END:VCALENDAR