BEGIN:VCALENDAR
VERSION:2.0
PRODID:-//eventon.com NONSGML v1.0//EN
CALSCALE:GREGORIAN
METHOD:PUBLISH
BEGIN:VEVENT
UID:69e7c6e7e9abf
DTSTAMP:20260422T015015
DTSTART:20260607T041200Z
DTEND:20260607T041200Z
TZID:Asia/Bangkok
LOCATION:นครราชสีมา 
SUMMARY:เขาพริกฮิลรีพีท 2026
DESCRIPTION: เขาพริกฮิลรีพีท 2026\nhttps://patrunning.com/events/%e0%b9%80%e0%b8%82%e0%b8%b2%e0%b8%9e%e0%b8%a3%e0%b8%b4%e0%b8%81%e0%b8%ae%e0%b8%b4%e0%b8%a5%e0%b8%a3%e0%b8%b5%e0%b8%9e%e0%b8%b5%e0%b8%97-2026/
URL:https://patrunning.com/events/%e0%b9%80%e0%b8%82%e0%b8%b2%e0%b8%9e%e0%b8%a3%e0%b8%b4%e0%b8%81%e0%b8%ae%e0%b8%b4%e0%b8%a5%e0%b8%a3%e0%b8%b5%e0%b8%9e%e0%b8%b5%e0%b8%97-2026/
END:VEVENT
END:VCALENDAR