BEGIN:VCALENDAR
VERSION:2.0
PRODID:-//eventon.com NONSGML v1.0//EN
CALSCALE:GREGORIAN
METHOD:PUBLISH
BEGIN:VEVENT
UID:69ea52ba9234c
DTSTAMP:20260424T001122
DTSTART:20260412T041600Z
DTEND:20260412T041600Z
TZID:Asia/Bangkok
LOCATION:ร้อยเอ็ด 
SUMMARY:รัตนประชานุสรณ์มินิมาราธอน2026
DESCRIPTION: รัตนประชานุสรณ์มินิมาราธอน2026\nhttps://patrunning.com/events/%e0%b8%a3%e0%b8%b1%e0%b8%95%e0%b8%99%e0%b8%9b%e0%b8%a3%e0%b8%b0%e0%b8%8a%e0%b8%b2%e0%b8%99%e0%b8%b8%e0%b8%aa%e0%b8%a3%e0%b8%93%e0%b9%8c%e0%b8%a1%e0%b8%b4%e0%b8%99%e0%b8%b4%e0%b8%a1%e0%b8%b2%e0%b8%a3/
URL:https://patrunning.com/events/%e0%b8%a3%e0%b8%b1%e0%b8%95%e0%b8%99%e0%b8%9b%e0%b8%a3%e0%b8%b0%e0%b8%8a%e0%b8%b2%e0%b8%99%e0%b8%b8%e0%b8%aa%e0%b8%a3%e0%b8%93%e0%b9%8c%e0%b8%a1%e0%b8%b4%e0%b8%99%e0%b8%b4%e0%b8%a1%e0%b8%b2%e0%b8%a3/
END:VEVENT
END:VCALENDAR