BEGIN:VCALENDAR
VERSION:2.0
PRODID:-//eventon.com NONSGML v1.0//EN
CALSCALE:GREGORIAN
METHOD:PUBLISH
BEGIN:VEVENT
UID:69e74a8491576
DTSTAMP:20260421T165932
DTSTART:20261018T114800Z
DTEND:20261018T114800Z
TZID:Asia/Bangkok
LOCATION:นครราชสีมา 
SUMMARY:Khaoyai X Trail 2026 # 3rd
DESCRIPTION: Khaoyai X Trail 2026 # 3rd\nhttps://patrunning.com/events/khaoyai-x-trail-2026-3rd/
URL:https://patrunning.com/events/khaoyai-x-trail-2026-3rd/
END:VEVENT
END:VCALENDAR