BEGIN:VCALENDAR
VERSION:2.0
PRODID:-//eventon.com NONSGML v1.0//EN
CALSCALE:GREGORIAN
METHOD:PUBLISH
BEGIN:VEVENT
UID:69e900d837ab7
DTSTAMP:20260423T000944
DTSTART:20260426T131600Z
DTEND:20260426T131600Z
TZID:Asia/Bangkok
LOCATION:อุทัยธานี 
SUMMARY:Green Air Run Uthaithani 2026 by CCC   <font style="color:#FF0000">(สมัครฟรี ไม่มีค่าใช่จ่าย!)</font>
DESCRIPTION: Green Air Run Uthaithani 2026 by CCC   <font style="color:#FF0000">(สมัครฟรี ไม่มีค่าใช่จ่าย!)</font>\nhttps://patrunning.com/events/green-air-run-uthaithani-2026-by-ccc-%e0%b8%aa%e0%b8%a1%e0%b8%b1%e0%b8%84%e0%b8%a3%e0%b8%9f%e0%b8%a3%e0%b8%b5-%e0%b9%84%e0%b8%a1%e0%b9%88%e0%b8%a1%e0%b8%b5%e0%b8%84%e0%b9%88%e0%b8%b2%e0%b9%83/
URL:https://patrunning.com/events/green-air-run-uthaithani-2026-by-ccc-%e0%b8%aa%e0%b8%a1%e0%b8%b1%e0%b8%84%e0%b8%a3%e0%b8%9f%e0%b8%a3%e0%b8%b5-%e0%b9%84%e0%b8%a1%e0%b9%88%e0%b8%a1%e0%b8%b5%e0%b8%84%e0%b9%88%e0%b8%b2%e0%b9%83/
END:VEVENT
END:VCALENDAR