BEGIN:VCALENDAR
VERSION:2.0
PRODID:-//eventon.com NONSGML v1.0//EN
CALSCALE:GREGORIAN
METHOD:PUBLISH
BEGIN:VEVENT
UID:69e7555b6bdac
DTSTAMP:20260421T174547
DTSTART:20260705T114200Z
DTEND:20260705T114200Z
TZID:Asia/Bangkok
LOCATION:กรุงเทพมหานคร 
SUMMARY:DON BOSCO MINI MARATHON 2026 ก้าวด้วยศรัทธา วิ่งด้วยหัวใจ 80 ปี ดอนบอสโก
DESCRIPTION: DON BOSCO MINI MARATHON 2026 ก้าวด้วยศรัทธา วิ่งด้วยหัวใจ 80 ปี ดอนบอสโก\nhttps://patrunning.com/events/don-bosco-mini-marathon-2026-%e0%b8%81%e0%b9%89%e0%b8%b2%e0%b8%a7%e0%b8%94%e0%b9%89%e0%b8%a7%e0%b8%a2%e0%b8%a8%e0%b8%a3%e0%b8%b1%e0%b8%97%e0%b8%98%e0%b8%b2-%e0%b8%a7%e0%b8%b4%e0%b9%88%e0%b8%87/
URL:https://patrunning.com/events/don-bosco-mini-marathon-2026-%e0%b8%81%e0%b9%89%e0%b8%b2%e0%b8%a7%e0%b8%94%e0%b9%89%e0%b8%a7%e0%b8%a2%e0%b8%a8%e0%b8%a3%e0%b8%b1%e0%b8%97%e0%b8%98%e0%b8%b2-%e0%b8%a7%e0%b8%b4%e0%b9%88%e0%b8%87/
END:VEVENT
END:VCALENDAR