BEGIN:VCALENDAR
VERSION:2.0
PRODID:-//eventon.com NONSGML v1.0//EN
CALSCALE:GREGORIAN
METHOD:PUBLISH
BEGIN:VEVENT
UID:69e8fa1425f5d
DTSTAMP:20260422T234052
DTSTART:20260418T121700Z
DTEND:20260418T121700Z
TZID:Asia/Bangkok
LOCATION:นราธิวาส 
SUMMARY:วิ่งริมเล หาดบ้านทอน  (16.00 น. )
DESCRIPTION: วิ่งริมเล หาดบ้านทอน  (16.00 น. )\nhttps://patrunning.com/events/%e0%b8%a7%e0%b8%b4%e0%b9%88%e0%b8%87%e0%b8%a3%e0%b8%b4%e0%b8%a1%e0%b9%80%e0%b8%a5-%e0%b8%ab%e0%b8%b2%e0%b8%94%e0%b8%9a%e0%b9%89%e0%b8%b2%e0%b8%99%e0%b8%97%e0%b8%ad%e0%b8%99-16-00-%e0%b8%99/
URL:https://patrunning.com/events/%e0%b8%a7%e0%b8%b4%e0%b9%88%e0%b8%87%e0%b8%a3%e0%b8%b4%e0%b8%a1%e0%b9%80%e0%b8%a5-%e0%b8%ab%e0%b8%b2%e0%b8%94%e0%b8%9a%e0%b9%89%e0%b8%b2%e0%b8%99%e0%b8%97%e0%b8%ad%e0%b8%99-16-00-%e0%b8%99/
END:VEVENT
END:VCALENDAR