BEGIN:VCALENDAR
VERSION:2.0
PRODID:-//eventon.com NONSGML v1.0//EN
CALSCALE:GREGORIAN
METHOD:PUBLISH
BEGIN:VEVENT
UID:69e76d6a36479
DTSTAMP:20260421T192826
DTSTART:20260906T122800Z
DTEND:20260906T122800Z
TZID:Asia/Bangkok
LOCATION:ระยอง 
SUMMARY:WATLAHARNRAI HALF MARATHON 2026 (5th)
DESCRIPTION: WATLAHARNRAI HALF MARATHON 2026 (5th)\nhttps://patrunning.com/events/watlaharnrai-half-marathon-2026-5th/
URL:https://patrunning.com/events/watlaharnrai-half-marathon-2026-5th/
END:VEVENT
END:VCALENDAR